BEGIN:VCALENDAR
VERSION:2.0
PRODID:-//Tukios.com/
BEGIN:VEVENT
UID:b52bd987-5c3f-4019-ba0f-8ecad480945e@obituaries.pinecrestfuneralservice.com
DTSTAMP:20260421T231816Z
DTSTART:20260424T160000Z
DTEND:20260424T170000Z
SUMMARY:Visitation
DESCRIPTION:
URL:https://obituaries.pinecrestfuneralservice.com/obituaries/buddy-snipes
LOCATION: 4721 Dunrobin Dr  Hope Mills NC 28348
GEO:34.9739062;-78.9223331
END:VEVENT
END:VCALENDAR