BEGIN:VCALENDAR
VERSION:2.0
PRODID:-//Tukios.com/
BEGIN:VEVENT
UID:2cdfef6a-2b1c-4a6e-b8d7-fc18f96a5157@obituaries.pinecrestfuneralservice.com
DTSTAMP:20260421T231816Z
DTSTART:20260424T170000Z
DTEND:20260424T180000Z
SUMMARY:Memorial Service
DESCRIPTION:
URL:https://obituaries.pinecrestfuneralservice.com/obituaries/buddy-snipes
LOCATION: 4721 Dunrobin Dr  Hope Mills NC 28348
GEO:34.9739062;-78.9223331
END:VEVENT
END:VCALENDAR