BEGIN:VCALENDAR
VERSION:2.0
PRODID:-//Tukios.com/
BEGIN:VEVENT
UID:df33046c-51bb-4928-81d9-e56e860d6162@obituaries.pinecrestfuneralservice.com
DTSTAMP:20260420T090508Z
DTSTART:20260418T160000Z
DTEND:20260418T170000Z
SUMMARY:Mass
DESCRIPTION:
URL:https://obituaries.pinecrestfuneralservice.com/obituaries/ty-bardon
LOCATION:Good Shephard Catholic Church 5050 Oak Street  Hope Mills NC 
	28348
GEO:34.9795968;-78.9396388
END:VEVENT
END:VCALENDAR