BEGIN:VCALENDAR
VERSION:2.0
PRODID:-//Tukios.com/
BEGIN:VEVENT
UID:059498af-f4c4-41f8-b09c-73a180f32886@obituaries.pinecrestfuneralservice.com
DTSTAMP:20260420T084620Z
DTSTART:20260418
SUMMARY:Burial
DESCRIPTION:
URL:https://obituaries.pinecrestfuneralservice.com/obituaries/ty-bardon
LOCATION: 4509 Raeford Rd  Fayetteville NC 28304
GEO:35.0407156;-78.9525778
END:VEVENT
END:VCALENDAR